Package: MuData Version: 1.10.0 Command: /Library/Frameworks/R.framework/Resources/bin/R CMD INSTALL MuData StartedAt: 2025-02-03 15:27:33 -0500 (Mon, 03 Feb 2025) EndedAt: 2025-02-03 15:28:26 -0500 (Mon, 03 Feb 2025) EllapsedTime: 52.7 seconds RetCode: 0 Status: OK