Package: Mulcom Version: 1.56.0 Command: /Library/Frameworks/R.framework/Resources/bin/R CMD check --install=check:Mulcom.install-out.txt --library=/Library/Frameworks/R.framework/Resources/library --no-vignettes --timings Mulcom_1.56.0.tar.gz StartedAt: 2025-02-05 03:19:29 -0500 (Wed, 05 Feb 2025) EndedAt: 2025-02-05 03:20:36 -0500 (Wed, 05 Feb 2025) EllapsedTime: 67.5 seconds RetCode: 0 Status: WARNINGS CheckDir: Mulcom.Rcheck Warnings: 1