Package: Mulcom Version: 1.56.0 Command: /Library/Frameworks/R.framework/Resources/bin/R CMD INSTALL Mulcom StartedAt: 2025-02-03 15:33:39 -0500 (Mon, 03 Feb 2025) EndedAt: 2025-02-03 15:33:45 -0500 (Mon, 03 Feb 2025) EllapsedTime: 6.6 seconds RetCode: 0 Status: OK