Package: Mulcom Version: 1.56.0 Command: /Library/Frameworks/R.framework/Resources/bin/R CMD build --keep-empty-dirs --no-resave-data Mulcom StartedAt: 2025-02-03 20:43:43 -0500 (Mon, 03 Feb 2025) EndedAt: 2025-02-03 20:43:46 -0500 (Mon, 03 Feb 2025) EllapsedTime: 2.3 seconds RetCode: 0 Status: OK PackageFile: Mulcom_1.56.0.tar.gz PackageFileSize: 1.095 MiB