Package: Mulcom Version: 1.56.0 Command: /Library/Frameworks/R.framework/Resources/bin/R CMD check --install=check:Mulcom.install-out.txt --library=/Library/Frameworks/R.framework/Resources/library --no-vignettes --timings Mulcom_1.56.0.tar.gz StartedAt: 2025-02-04 06:58:27 -0500 (Tue, 04 Feb 2025) EndedAt: 2025-02-04 07:00:34 -0500 (Tue, 04 Feb 2025) EllapsedTime: 127.1 seconds RetCode: 0 Status: WARNINGS CheckDir: Mulcom.Rcheck Warnings: 1