Package: Mulcom Version: 1.56.0 Command: /home/biocbuild/bbs-3.20-bioc/R/bin/R CMD build --keep-empty-dirs --no-resave-data --md5 Mulcom StartedAt: 2025-02-03 18:25:23 -0500 (Mon, 03 Feb 2025) EndedAt: 2025-02-03 18:25:24 -0500 (Mon, 03 Feb 2025) EllapsedTime: 1.0 seconds RetCode: 0 Status: OK PackageFile: Mulcom_1.56.0.tar.gz PackageFileSize: 1.097 MiB