Package: Mulcom Version: 1.56.0 Command: /home/biocbuild/bbs-3.20-bioc/R/bin/R CMD check --install=check:Mulcom.install-out.txt --library=/home/biocbuild/bbs-3.20-bioc/R/site-library --timings Mulcom_1.56.0.tar.gz StartedAt: 2025-02-04 00:31:57 -0500 (Tue, 04 Feb 2025) EndedAt: 2025-02-04 00:32:47 -0500 (Tue, 04 Feb 2025) EllapsedTime: 49.0 seconds RetCode: 0 Status: WARNINGS CheckDir: Mulcom.Rcheck Warnings: 1