Package: Mulcom Version: 1.56.0 Command: /home/biocbuild/bbs-3.20-bioc/R/bin/R CMD INSTALL Mulcom StartedAt: 2025-02-03 15:18:43 -0500 (Mon, 03 Feb 2025) EndedAt: 2025-02-03 15:18:51 -0500 (Mon, 03 Feb 2025) EllapsedTime: 7.8 seconds RetCode: 0 Status: OK