Package: Mulcom Version: 1.56.0 Command: rm -rf Mulcom.buildbin-libdir && mkdir Mulcom.buildbin-libdir && F:\biocbuild\bbs-3.20-bioc\R\bin\R.exe CMD INSTALL --build --library=Mulcom.buildbin-libdir Mulcom_1.56.0.tar.gz StartedAt: 2025-02-04 09:01:15 -0500 (Tue, 04 Feb 2025) EndedAt: 2025-02-04 09:01:33 -0500 (Tue, 04 Feb 2025) EllapsedTime: 18.1 seconds RetCode: 0 Status: OK PackageFile: Mulcom_1.56.0.zip PackageFileSize: 1.49 MiB