Package: Mulcom Version: 1.56.0 Command: /home/biocbuild/R/R/bin/R CMD build --keep-empty-dirs --no-resave-data Mulcom StartedAt: 2025-02-04 01:16:59 -0000 (Tue, 04 Feb 2025) EndedAt: 2025-02-04 01:17:00 -0000 (Tue, 04 Feb 2025) EllapsedTime: 1.0 seconds RetCode: 0 Status: OK PackageFile: Mulcom_1.56.0.tar.gz PackageFileSize: 1.095 MiB