Package: Mulcom Version: 1.56.0 Command: /home/biocbuild/R/R/bin/R CMD INSTALL Mulcom StartedAt: 2025-02-03 20:28:37 -0000 (Mon, 03 Feb 2025) EndedAt: 2025-02-03 20:28:49 -0000 (Mon, 03 Feb 2025) EllapsedTime: 11.6 seconds RetCode: 0 Status: OK