Package: MultiAssayExperiment Version: 1.32.0 Command: /Library/Frameworks/R.framework/Resources/bin/R CMD INSTALL MultiAssayExperiment StartedAt: 2024-11-19 15:11:19 -0500 (Tue, 19 Nov 2024) EndedAt: 2024-11-19 15:12:00 -0500 (Tue, 19 Nov 2024) EllapsedTime: 41.6 seconds RetCode: 0 Status: OK