Package: MultiAssayExperiment Version: 1.32.0 Command: rm -rf MultiAssayExperiment.buildbin-libdir && mkdir MultiAssayExperiment.buildbin-libdir && /Users/biocbuild/BBS/utils/build-universal.sh MultiAssayExperiment_1.32.0.tar.gz /Library/Frameworks/R.framework/Resources/bin/R MultiAssayExperiment.buildbin-libdir StartedAt: 2025-01-31 13:15:23 -0500 (Fri, 31 Jan 2025) EndedAt: 2025-01-31 13:16:35 -0500 (Fri, 31 Jan 2025) EllapsedTime: 72.5 seconds RetCode: 0 Status: OK PackageFile: MultiAssayExperiment_1.32.0.tgz PackageFileSize: 2.03 MiB