Package: MultiAssayExperiment Version: 1.32.0 Command: /Library/Frameworks/R.framework/Resources/bin/R CMD check --install=check:MultiAssayExperiment.install-out.txt --library=/Library/Frameworks/R.framework/Resources/library --no-vignettes --timings MultiAssayExperiment_1.32.0.tar.gz StartedAt: 2025-01-31 07:04:46 -0500 (Fri, 31 Jan 2025) EndedAt: 2025-01-31 07:12:55 -0500 (Fri, 31 Jan 2025) EllapsedTime: 489.3 seconds RetCode: 0 Status: OK CheckDir: MultiAssayExperiment.Rcheck Warnings: 0