Package: MultiAssayExperiment Version: 1.32.0 Command: /Library/Frameworks/R.framework/Resources/bin/R CMD INSTALL MultiAssayExperiment StartedAt: 2025-01-30 15:20:58 -0500 (Thu, 30 Jan 2025) EndedAt: 2025-01-30 15:22:09 -0500 (Thu, 30 Jan 2025) EllapsedTime: 70.7 seconds RetCode: 0 Status: OK