Package: MultiAssayExperiment Version: 1.32.0 Command: /home/biocbuild/bbs-3.20-bioc/R/bin/R CMD build --keep-empty-dirs --no-resave-data --md5 MultiAssayExperiment StartedAt: 2025-01-30 18:15:59 -0500 (Thu, 30 Jan 2025) EndedAt: 2025-01-30 18:16:56 -0500 (Thu, 30 Jan 2025) EllapsedTime: 57.1 seconds RetCode: 0 Status: OK PackageFile: MultiAssayExperiment_1.32.0.tar.gz PackageFileSize: 1.168 MiB