Package: MultiAssayExperiment Version: 1.32.0 Command: /home/biocbuild/bbs-3.20-bioc/R/bin/R CMD check --install=check:MultiAssayExperiment.install-out.txt --library=/home/biocbuild/bbs-3.20-bioc/R/site-library --timings MultiAssayExperiment_1.32.0.tar.gz StartedAt: 2025-01-31 00:21:55 -0500 (Fri, 31 Jan 2025) EndedAt: 2025-01-31 00:26:10 -0500 (Fri, 31 Jan 2025) EllapsedTime: 255.3 seconds RetCode: 0 Status: OK CheckDir: MultiAssayExperiment.Rcheck Warnings: 0