Package: MultiAssayExperiment Version: 1.32.0 Command: F:\biocbuild\bbs-3.20-bioc\R\bin\R.exe CMD INSTALL MultiAssayExperiment StartedAt: 2025-01-30 15:58:35 -0500 (Thu, 30 Jan 2025) EndedAt: 2025-01-30 16:01:13 -0500 (Thu, 30 Jan 2025) EllapsedTime: 157.4 seconds RetCode: 0 Status: OK