Package: MultiAssayExperiment Version: 1.32.0 Command: /home/biocbuild/R/R/bin/R CMD INSTALL MultiAssayExperiment StartedAt: 2025-01-30 20:16:54 -0000 (Thu, 30 Jan 2025) EndedAt: 2025-01-30 20:17:32 -0000 (Thu, 30 Jan 2025) EllapsedTime: 38.0 seconds RetCode: 0 Status: OK