Package: MultiBaC Version: 1.16.0 Command: /Library/Frameworks/R.framework/Resources/bin/R CMD build --keep-empty-dirs --no-resave-data MultiBaC StartedAt: 2025-02-03 20:44:10 -0500 (Mon, 03 Feb 2025) EndedAt: 2025-02-03 20:45:49 -0500 (Mon, 03 Feb 2025) EllapsedTime: 99.6 seconds RetCode: 0 Status: OK PackageFile: MultiBaC_1.16.0.tar.gz PackageFileSize: 1.745 MiB