Package: MultiBaC Version: 1.16.0 Command: /Library/Frameworks/R.framework/Resources/bin/R CMD INSTALL MultiBaC StartedAt: 2025-02-03 16:40:33 -0500 (Mon, 03 Feb 2025) EndedAt: 2025-02-03 16:40:44 -0500 (Mon, 03 Feb 2025) EllapsedTime: 10.5 seconds RetCode: 0 Status: OK