Package: MultiBaC Version: 1.16.0 Command: /home/biocbuild/R/R/bin/R CMD build --keep-empty-dirs --no-resave-data MultiBaC StartedAt: 2025-02-04 01:17:07 -0000 (Tue, 04 Feb 2025) EndedAt: 2025-02-04 01:18:20 -0000 (Tue, 04 Feb 2025) EllapsedTime: 73.1 seconds RetCode: 0 Status: OK PackageFile: MultiBaC_1.16.0.tar.gz PackageFileSize: 940.8 KiB