Package: MultiBaC Version: 1.16.0 Command: /home/biocbuild/R/R/bin/R CMD INSTALL MultiBaC StartedAt: 2025-02-03 21:15:40 -0000 (Mon, 03 Feb 2025) EndedAt: 2025-02-03 21:15:46 -0000 (Mon, 03 Feb 2025) EllapsedTime: 6.2 seconds RetCode: 0 Status: OK