Package: MultiDataSet Version: 1.34.0 Command: rm -rf MultiDataSet.buildbin-libdir && mkdir MultiDataSet.buildbin-libdir && /Users/biocbuild/BBS/utils/build-universal.sh MultiDataSet_1.34.0.tar.gz /Library/Frameworks/R.framework/Resources/bin/R MultiDataSet.buildbin-libdir StartedAt: 2025-02-04 13:34:51 -0500 (Tue, 04 Feb 2025) EndedAt: 2025-02-04 13:36:21 -0500 (Tue, 04 Feb 2025) EllapsedTime: 90.1 seconds RetCode: 0 Status: OK PackageFile: MultiDataSet_1.34.0.tgz PackageFileSize: 863 KiB