Package: MultiDataSet Version: 1.34.0 Command: /Library/Frameworks/R.framework/Resources/bin/R CMD build --keep-empty-dirs --no-resave-data MultiDataSet StartedAt: 2025-02-03 20:44:26 -0500 (Mon, 03 Feb 2025) EndedAt: 2025-02-03 20:46:21 -0500 (Mon, 03 Feb 2025) EllapsedTime: 114.8 seconds RetCode: 0 Status: OK PackageFile: MultiDataSet_1.34.0.tar.gz PackageFileSize: 495.3 KiB