Package: MultiDataSet
Version: 1.33.0
Command: rm -rf MultiDataSet.buildbin-libdir && mkdir MultiDataSet.buildbin-libdir && F:\biocbuild\bbs-3.20-bioc\R\bin\R.exe CMD INSTALL --build --library=MultiDataSet.buildbin-libdir MultiDataSet_1.33.0.tar.gz
StartedAt: 2024-06-10 14:21:31 -0400 (Mon, 10 Jun 2024)
EndedAt: 2024-06-10 14:23:05 -0400 (Mon, 10 Jun 2024)
EllapsedTime: 94.6 seconds
RetCode: 0
Status: OK
PackageFile: MultiDataSet_1.33.0.zip
PackageFileSize: 875.2 <A href="http://en.wikipedia.org/wiki/KiB" target="_blank">KiB</A>