Package: MultiDataSet Version: 1.34.0 Command: F:\biocbuild\bbs-3.20-bioc\R\bin\R.exe CMD check --no-multiarch --install=check:MultiDataSet.install-out.txt --library=F:\biocbuild\bbs-3.20-bioc\R\library --no-vignettes --timings MultiDataSet_1.34.0.tar.gz StartedAt: 2025-02-04 04:13:09 -0500 (Tue, 04 Feb 2025) EndedAt: 2025-02-04 04:16:34 -0500 (Tue, 04 Feb 2025) EllapsedTime: 205.2 seconds RetCode: 0 Status: WARNINGS CheckDir: MultiDataSet.Rcheck Warnings: 1