Package: MultiDataSet Version: 1.34.0 Command: F:\biocbuild\bbs-3.20-bioc\R\bin\R.exe CMD INSTALL MultiDataSet StartedAt: 2025-02-03 16:22:34 -0500 (Mon, 03 Feb 2025) EndedAt: 2025-02-03 16:23:35 -0500 (Mon, 03 Feb 2025) EllapsedTime: 60.6 seconds RetCode: 0 Status: OK