Package: MultiDataSet Version: 1.34.0 Command: /home/biocbuild/R/R/bin/R CMD build --keep-empty-dirs --no-resave-data MultiDataSet StartedAt: 2025-02-04 01:17:25 -0000 (Tue, 04 Feb 2025) EndedAt: 2025-02-04 01:18:29 -0000 (Tue, 04 Feb 2025) EllapsedTime: 64.1 seconds RetCode: 0 Status: OK PackageFile: MultiDataSet_1.34.0.tar.gz PackageFileSize: 544.2 KiB