Package: MultiMed Version: 2.28.0 Command: /Library/Frameworks/R.framework/Resources/bin/R CMD build --keep-empty-dirs --no-resave-data MultiMed StartedAt: 2025-02-04 04:20:47 -0500 (Tue, 04 Feb 2025) EndedAt: 2025-02-04 04:21:02 -0500 (Tue, 04 Feb 2025) EllapsedTime: 14.8 seconds RetCode: 0 Status: OK PackageFile: MultiMed_2.28.0.tar.gz PackageFileSize: 508.3 KiB