Package: MultiMed Version: 2.28.0 Command: /Library/Frameworks/R.framework/Resources/bin/R CMD check --install=check:MultiMed.install-out.txt --library=/Library/Frameworks/R.framework/Resources/library --no-vignettes --timings MultiMed_2.28.0.tar.gz StartedAt: 2025-02-05 03:22:49 -0500 (Wed, 05 Feb 2025) EndedAt: 2025-02-05 03:23:16 -0500 (Wed, 05 Feb 2025) EllapsedTime: 27.3 seconds RetCode: 0 Status: OK CheckDir: MultiMed.Rcheck Warnings: 0