Package: MultiMed Version: 2.28.0 Command: /Library/Frameworks/R.framework/Resources/bin/R CMD INSTALL MultiMed StartedAt: 2025-02-03 17:52:21 -0500 (Mon, 03 Feb 2025) EndedAt: 2025-02-03 17:52:24 -0500 (Mon, 03 Feb 2025) EllapsedTime: 2.5 seconds RetCode: 0 Status: OK