Package: MultiMed Version: 2.28.0 Command: /Library/Frameworks/R.framework/Resources/bin/R CMD build --keep-empty-dirs --no-resave-data MultiMed StartedAt: 2025-02-03 20:45:25 -0500 (Mon, 03 Feb 2025) EndedAt: 2025-02-03 20:45:46 -0500 (Mon, 03 Feb 2025) EllapsedTime: 21.3 seconds RetCode: 0 Status: OK PackageFile: MultiMed_2.28.0.tar.gz PackageFileSize: 508.3 KiB