Package: MultiMed Version: 2.28.0 Command: /Library/Frameworks/R.framework/Resources/bin/R CMD check --install=check:MultiMed.install-out.txt --library=/Library/Frameworks/R.framework/Resources/library --no-vignettes --timings MultiMed_2.28.0.tar.gz StartedAt: 2025-02-04 07:01:49 -0500 (Tue, 04 Feb 2025) EndedAt: 2025-02-04 07:02:38 -0500 (Tue, 04 Feb 2025) EllapsedTime: 49.0 seconds RetCode: 0 Status: OK CheckDir: MultiMed.Rcheck Warnings: 0