Package: MultiMed Version: 2.28.0 Command: rm -rf MultiMed.buildbin-libdir && mkdir MultiMed.buildbin-libdir && F:\biocbuild\bbs-3.20-bioc\R\bin\R.exe CMD INSTALL --build --library=MultiMed.buildbin-libdir MultiMed_2.28.0.tar.gz StartedAt: 2025-02-04 09:01:41 -0500 (Tue, 04 Feb 2025) EndedAt: 2025-02-04 09:01:48 -0500 (Tue, 04 Feb 2025) EllapsedTime: 7.1 seconds RetCode: 0 Status: OK PackageFile: MultiMed_2.28.0.zip PackageFileSize: 448.1 KiB