Package: MultiMed Version: 2.28.0 Command: chmod a+r MultiMed -R && F:\biocbuild\bbs-3.20-bioc\R\bin\R.exe CMD build --keep-empty-dirs --no-resave-data MultiMed StartedAt: 2025-02-03 20:41:35 -0500 (Mon, 03 Feb 2025) EndedAt: 2025-02-03 20:41:50 -0500 (Mon, 03 Feb 2025) EllapsedTime: 15.0 seconds RetCode: 0 Status: OK PackageFile: MultiMed_2.28.0.tar.gz PackageFileSize: 426.5 KiB