Package: MultiMed Version: 2.28.0 Command: /home/biocbuild/R/R/bin/R CMD INSTALL MultiMed StartedAt: 2025-02-10 21:00:36 -0000 (Mon, 10 Feb 2025) EndedAt: 2025-02-10 21:00:38 -0000 (Mon, 10 Feb 2025) EllapsedTime: 2.2 seconds RetCode: 0 Status: OK