Package: MultiRNAflow Version: 1.4.0 Command: rm -rf MultiRNAflow.buildbin-libdir && mkdir MultiRNAflow.buildbin-libdir && /Users/biocbuild/BBS/utils/build-universal.sh MultiRNAflow_1.4.0.tar.gz /Library/Frameworks/R.framework/Resources/bin/R MultiRNAflow.buildbin-libdir StartedAt: 2025-02-05 16:52:39 -0500 (Wed, 05 Feb 2025) EndedAt: 2025-02-05 16:53:40 -0500 (Wed, 05 Feb 2025) EllapsedTime: 60.4 seconds RetCode: 0 Status: OK PackageFile: MultiRNAflow_1.4.0.tgz PackageFileSize: 3.024 MiB