Package: MultiRNAflow
Version: 1.4.0
Command: /home/biocbuild/R/R/bin/R CMD check --install=check:MultiRNAflow.install-out.txt --library=/home/biocbuild/R/R/site-library --no-vignettes --timings MultiRNAflow_1.4.0.tar.gz
StartedAt: 2024-11-20 10:20:47 -0000 (Wed, 20 Nov 2024)
EndedAt: 2024-11-20 10:33:23 -0000 (Wed, 20 Nov 2024)
EllapsedTime: 756.5 seconds
RetCode: 0
Status: OK
CheckDir: MultiRNAflow.Rcheck
Warnings: 0