Package: MultiRNAflow
Version: 1.3.0
Command: C:\Users\biocbuild\bbs-3.20-bioc\R\bin\R.exe CMD INSTALL MultiRNAflow
StartedAt: 2024-07-15 16:17:00 -0400 (Mon, 15 Jul 2024)
EndedAt: 2024-07-15 16:17:41 -0400 (Mon, 15 Jul 2024)
EllapsedTime: 40.9 seconds
RetCode: 0
Status: OK