Package: MultiRNAflow Version: 1.4.0 Command: rm -rf MultiRNAflow.buildbin-libdir && mkdir MultiRNAflow.buildbin-libdir && F:\biocbuild\bbs-3.20-bioc\R\bin\R.exe CMD INSTALL --build --library=MultiRNAflow.buildbin-libdir MultiRNAflow_1.4.0.tar.gz StartedAt: 2025-02-04 09:01:47 -0500 (Tue, 04 Feb 2025) EndedAt: 2025-02-04 09:02:48 -0500 (Tue, 04 Feb 2025) EllapsedTime: 61.6 seconds RetCode: 0 Status: OK PackageFile: MultiRNAflow_1.4.0.zip PackageFileSize: 3.039 MiB