Package: MultiRNAflow Version: 1.4.0 Command: chmod a+r MultiRNAflow -R && F:\biocbuild\bbs-3.20-bioc\R\bin\R.exe CMD build --keep-empty-dirs --no-resave-data MultiRNAflow StartedAt: 2025-02-03 20:42:19 -0500 (Mon, 03 Feb 2025) EndedAt: 2025-02-03 20:48:50 -0500 (Mon, 03 Feb 2025) EllapsedTime: 390.8 seconds RetCode: 0 Status: OK PackageFile: MultiRNAflow_1.4.0.tar.gz PackageFileSize: 3.151 MiB