Package: MultimodalExperiment Version: 1.6.0 Command: /Library/Frameworks/R.framework/Resources/bin/R CMD build --keep-empty-dirs --no-resave-data MultimodalExperiment StartedAt: 2025-02-03 20:45:27 -0500 (Mon, 03 Feb 2025) EndedAt: 2025-02-03 20:47:05 -0500 (Mon, 03 Feb 2025) EllapsedTime: 97.8 seconds RetCode: 0 Status: OK PackageFile: MultimodalExperiment_1.6.0.tar.gz PackageFileSize: 2.532 MiB