Package: MultimodalExperiment Version: 1.6.0 Command: /Library/Frameworks/R.framework/Resources/bin/R CMD check --install=check:MultimodalExperiment.install-out.txt --library=/Library/Frameworks/R.framework/Resources/library --no-vignettes --timings MultimodalExperiment_1.6.0.tar.gz StartedAt: 2025-02-04 07:02:08 -0500 (Tue, 04 Feb 2025) EndedAt: 2025-02-04 07:08:24 -0500 (Tue, 04 Feb 2025) EllapsedTime: 376.0 seconds RetCode: 0 Status: OK CheckDir: MultimodalExperiment.Rcheck Warnings: 0