Package: MultimodalExperiment Version: 1.6.0 Command: /Library/Frameworks/R.framework/Resources/bin/R CMD INSTALL MultimodalExperiment StartedAt: 2025-02-17 15:18:53 -0500 (Mon, 17 Feb 2025) EndedAt: 2025-02-17 15:19:58 -0500 (Mon, 17 Feb 2025) EllapsedTime: 65.6 seconds RetCode: 0 Status: OK