Package: MultimodalExperiment
Version: 1.6.0
Command: /home/biocbuild/bbs-3.20-bioc/R/bin/R CMD build --keep-empty-dirs --no-resave-data --md5 MultimodalExperiment
StartedAt: 2025-02-17 18:12:08 -0500 (Mon, 17 Feb 2025)
EndedAt: 2025-02-17 18:12:50 -0500 (Mon, 17 Feb 2025)
EllapsedTime: 42.0 seconds
RetCode: 0
Status: OK
PackageFile: MultimodalExperiment_1.6.0.tar.gz
PackageFileSize: 2.534 <A href="http://en.wikipedia.org/wiki/MiB" target="_blank">MiB</A>