Package: MultimodalExperiment Version: 1.6.0 Command: rm -rf MultimodalExperiment.buildbin-libdir && mkdir MultimodalExperiment.buildbin-libdir && F:\biocbuild\bbs-3.20-bioc\R\bin\R.exe CMD INSTALL --build --library=MultimodalExperiment.buildbin-libdir MultimodalExperiment_1.6.0.tar.gz StartedAt: 2025-02-18 08:37:52 -0500 (Tue, 18 Feb 2025) EndedAt: 2025-02-18 08:44:02 -0500 (Tue, 18 Feb 2025) EllapsedTime: 369.7 seconds RetCode: 0 Status: OK PackageFile: MultimodalExperiment_1.6.0.zip PackageFileSize: 4.454 <A href="http://en.wikipedia.org/wiki/MiB" target="_blank">MiB</A>