Package: MultimodalExperiment Version: 1.6.0 Command: /home/biocbuild/R/R/bin/R CMD build --keep-empty-dirs --no-resave-data MultimodalExperiment StartedAt: 2025-02-04 01:17:56 -0000 (Tue, 04 Feb 2025) EndedAt: 2025-02-04 01:18:49 -0000 (Tue, 04 Feb 2025) EllapsedTime: 53.0 seconds RetCode: 0 Status: OK PackageFile: MultimodalExperiment_1.6.0.tar.gz PackageFileSize: 2.554 MiB