Package: MungeSumstats Version: 1.14.1 Command: /Library/Frameworks/R.framework/Resources/bin/R CMD build --keep-empty-dirs --no-resave-data MungeSumstats StartedAt: 2025-02-03 20:46:00 -0500 (Mon, 03 Feb 2025) EndedAt: 2025-02-03 20:49:23 -0500 (Mon, 03 Feb 2025) EllapsedTime: 202.9 seconds RetCode: 0 Status: OK PackageFile: MungeSumstats_1.14.1.tar.gz PackageFileSize: 2.37 MiB