Package: MungeSumstats Version: 1.14.1 Command: /Library/Frameworks/R.framework/Resources/bin/R CMD check --install=check:MungeSumstats.install-out.txt --library=/Library/Frameworks/R.framework/Resources/library --no-vignettes --timings MungeSumstats_1.14.1.tar.gz StartedAt: 2025-02-04 07:04:45 -0500 (Tue, 04 Feb 2025) EndedAt: 2025-02-04 07:44:46 -0500 (Tue, 04 Feb 2025) EllapsedTime: 2400.9 seconds RetCode: None Status: TIMEOUT CheckDir: MungeSumstats.Rcheck Warnings: NA